BEGIN:VCALENDAR
VERSION:2.0
PRODID:-//One Love Animal Rescue - ECPv6.15.20//NONSGML v1.0//EN
CALSCALE:GREGORIAN
METHOD:PUBLISH
X-WR-CALNAME:One Love Animal Rescue
X-ORIGINAL-URL:https://oneloveanimalrescue.com
X-WR-CALDESC:Events for One Love Animal Rescue
REFRESH-INTERVAL;VALUE=DURATION:PT1H
X-Robots-Tag:noindex
X-PUBLISHED-TTL:PT1H
BEGIN:VTIMEZONE
TZID:America/New_York
BEGIN:DAYLIGHT
TZOFFSETFROM:-0500
TZOFFSETTO:-0400
TZNAME:EDT
DTSTART:20250309T070000
END:DAYLIGHT
BEGIN:STANDARD
TZOFFSETFROM:-0400
TZOFFSETTO:-0500
TZNAME:EST
DTSTART:20251102T060000
END:STANDARD
BEGIN:DAYLIGHT
TZOFFSETFROM:-0500
TZOFFSETTO:-0400
TZNAME:EDT
DTSTART:20260308T070000
END:DAYLIGHT
BEGIN:STANDARD
TZOFFSETFROM:-0400
TZOFFSETTO:-0500
TZNAME:EST
DTSTART:20261101T060000
END:STANDARD
BEGIN:DAYLIGHT
TZOFFSETFROM:-0500
TZOFFSETTO:-0400
TZNAME:EDT
DTSTART:20270314T070000
END:DAYLIGHT
BEGIN:STANDARD
TZOFFSETFROM:-0400
TZOFFSETTO:-0500
TZNAME:EST
DTSTART:20271107T060000
END:STANDARD
END:VTIMEZONE
BEGIN:VEVENT
DTSTART;TZID=America/New_York:20260418T130000
DTEND;TZID=America/New_York:20260418T150000
DTSTAMP:20260425T221638
CREATED:20260406T001055Z
LAST-MODIFIED:20260406T001055Z
UID:10000442-1776517200-1776524400@oneloveanimalrescue.com
SUMMARY:Waterside at Rice Hope
DESCRIPTION:Come meet our adoptable pets at Waterside at Rice Hope!
URL:https://oneloveanimalrescue.com/event/waterside-at-rice-hope/
LOCATION:Waterside At Rice Hope\, 13 Striker Rd\, Port Wentworth`\, 31407\, United States
ATTACH;FMTTYPE=image/jpeg:https://oneloveanimalrescue.com/wp-content/uploads/2026/04/Marlee.jpg
END:VEVENT
END:VCALENDAR