BEGIN:VCALENDAR
VERSION:2.0
PRODID:-//One Love Animal Rescue - ECPv6.15.20//NONSGML v1.0//EN
CALSCALE:GREGORIAN
METHOD:PUBLISH
X-ORIGINAL-URL:https://oneloveanimalrescue.com
X-WR-CALDESC:Events for One Love Animal Rescue
REFRESH-INTERVAL;VALUE=DURATION:PT1H
X-Robots-Tag:noindex
X-PUBLISHED-TTL:PT1H
BEGIN:VTIMEZONE
TZID:America/New_York
BEGIN:DAYLIGHT
TZOFFSETFROM:-0500
TZOFFSETTO:-0400
TZNAME:EDT
DTSTART:20250309T070000
END:DAYLIGHT
BEGIN:STANDARD
TZOFFSETFROM:-0400
TZOFFSETTO:-0500
TZNAME:EST
DTSTART:20251102T060000
END:STANDARD
BEGIN:DAYLIGHT
TZOFFSETFROM:-0500
TZOFFSETTO:-0400
TZNAME:EDT
DTSTART:20260308T070000
END:DAYLIGHT
BEGIN:STANDARD
TZOFFSETFROM:-0400
TZOFFSETTO:-0500
TZNAME:EST
DTSTART:20261101T060000
END:STANDARD
BEGIN:DAYLIGHT
TZOFFSETFROM:-0500
TZOFFSETTO:-0400
TZNAME:EDT
DTSTART:20270314T070000
END:DAYLIGHT
BEGIN:STANDARD
TZOFFSETFROM:-0400
TZOFFSETTO:-0500
TZNAME:EST
DTSTART:20271107T060000
END:STANDARD
END:VTIMEZONE
BEGIN:VEVENT
DTSTART;TZID=America/New_York:20260404T110000
DTEND;TZID=America/New_York:20260404T130000
DTSTAMP:20260425T221557
CREATED:20260131T185130Z
LAST-MODIFIED:20260405T235110Z
UID:10000414-1775300400-1775307600@oneloveanimalrescue.com
SUMMARY:Tractor Supply
DESCRIPTION:Come meet some of our highly adoptable dogs and possibly your new best friend or inquire about many of our others not in attendance.\nHope to see you there!!!!
URL:https://oneloveanimalrescue.com/event/tractor-supply/
LOCATION:Tractor Supply\, 312 US-80\, Bloomingdale\, GA\, 31302\, United States
ATTACH;FMTTYPE=image/jpeg:https://oneloveanimalrescue.com/wp-content/uploads/2026/01/tractorsupply.jpeg
ORGANIZER;CN="One Love Animal Resuce":MAILTO:info@oneloveanimalrescue.com
END:VEVENT
END:VCALENDAR