BEGIN:VCALENDAR
VERSION:2.0
PRODID:-//One Love Animal Rescue - ECPv6.15.20//NONSGML v1.0//EN
CALSCALE:GREGORIAN
METHOD:PUBLISH
X-ORIGINAL-URL:https://oneloveanimalrescue.com
X-WR-CALDESC:Events for One Love Animal Rescue
REFRESH-INTERVAL;VALUE=DURATION:PT1H
X-Robots-Tag:noindex
X-PUBLISHED-TTL:PT1H
BEGIN:VTIMEZONE
TZID:America/New_York
BEGIN:DAYLIGHT
TZOFFSETFROM:-0500
TZOFFSETTO:-0400
TZNAME:EDT
DTSTART:20250309T070000
END:DAYLIGHT
BEGIN:STANDARD
TZOFFSETFROM:-0400
TZOFFSETTO:-0500
TZNAME:EST
DTSTART:20251102T060000
END:STANDARD
BEGIN:DAYLIGHT
TZOFFSETFROM:-0500
TZOFFSETTO:-0400
TZNAME:EDT
DTSTART:20260308T070000
END:DAYLIGHT
BEGIN:STANDARD
TZOFFSETFROM:-0400
TZOFFSETTO:-0500
TZNAME:EST
DTSTART:20261101T060000
END:STANDARD
BEGIN:DAYLIGHT
TZOFFSETFROM:-0500
TZOFFSETTO:-0400
TZNAME:EDT
DTSTART:20270314T070000
END:DAYLIGHT
BEGIN:STANDARD
TZOFFSETFROM:-0400
TZOFFSETTO:-0500
TZNAME:EST
DTSTART:20271107T060000
END:STANDARD
END:VTIMEZONE
BEGIN:VEVENT
DTSTART;TZID=America/New_York:20260321T193000
DTEND;TZID=America/New_York:20260321T213000
DTSTAMP:20260425T235241
CREATED:20260303T022404Z
LAST-MODIFIED:20260303T022647Z
UID:10000426-1774121400-1774128600@oneloveanimalrescue.com
SUMMARY:Front Porch Improv Fundraiser & Adoption Event!
DESCRIPTION:Welcome to Puppy Files\, a comedic canine caper. Join our ace pet detective as he hits the streets looking for clues and interrogating suspects in search of finding a missing dog. T \n*This show will have live animals in it!* \n\nSHOW DETAILS\n\nShow length: 90 minutes with an intermission\nRecommended for ages 16+\n\n\n\n\nGENERAL ADMISSION\nSeating is on a first-come\, first-served basis\, so snagging seats together isn’t guaranteed. Groups should keep this in mind while planning and arrive early. \nREFUNDS\nWe do not offer refunds\, similar to concert policies. If your plans change or you can’t attend\, tickets are non-refundable. However\, you’re welcome to give them to a friend or sell them. We do offer ticket exchanges with at least 48 hours’ notice. To request an exchange\, email comedy@frontporchimprov.com—please note that exchanges cannot be processed over the phone.
URL:https://oneloveanimalrescue.com/event/front-porch-improv-fundraiser-adoption-event/
LOCATION:Front Porch Improv\, 210 W Victory Dr\, Savannah\, 31405\, United States
ATTACH;FMTTYPE=image/jpeg:https://oneloveanimalrescue.com/wp-content/uploads/2026/03/ImprovImage.jpg
END:VEVENT
END:VCALENDAR