BEGIN:VCALENDAR
VERSION:2.0
PRODID:-//One Love Animal Rescue - ECPv6.15.20//NONSGML v1.0//EN
CALSCALE:GREGORIAN
METHOD:PUBLISH
X-ORIGINAL-URL:https://oneloveanimalrescue.com
X-WR-CALDESC:Events for One Love Animal Rescue
REFRESH-INTERVAL;VALUE=DURATION:PT1H
X-Robots-Tag:noindex
X-PUBLISHED-TTL:PT1H
BEGIN:VTIMEZONE
TZID:America/New_York
BEGIN:DAYLIGHT
TZOFFSETFROM:-0500
TZOFFSETTO:-0400
TZNAME:EDT
DTSTART:20210314T070000
END:DAYLIGHT
BEGIN:STANDARD
TZOFFSETFROM:-0400
TZOFFSETTO:-0500
TZNAME:EST
DTSTART:20211107T060000
END:STANDARD
BEGIN:DAYLIGHT
TZOFFSETFROM:-0500
TZOFFSETTO:-0400
TZNAME:EDT
DTSTART:20220313T070000
END:DAYLIGHT
BEGIN:STANDARD
TZOFFSETFROM:-0400
TZOFFSETTO:-0500
TZNAME:EST
DTSTART:20221106T060000
END:STANDARD
BEGIN:DAYLIGHT
TZOFFSETFROM:-0500
TZOFFSETTO:-0400
TZNAME:EDT
DTSTART:20230312T070000
END:DAYLIGHT
BEGIN:STANDARD
TZOFFSETFROM:-0400
TZOFFSETTO:-0500
TZNAME:EST
DTSTART:20231105T060000
END:STANDARD
BEGIN:DAYLIGHT
TZOFFSETFROM:-0500
TZOFFSETTO:-0400
TZNAME:EDT
DTSTART:20240310T070000
END:DAYLIGHT
BEGIN:STANDARD
TZOFFSETFROM:-0400
TZOFFSETTO:-0500
TZNAME:EST
DTSTART:20241103T060000
END:STANDARD
END:VTIMEZONE
BEGIN:VEVENT
DTSTART;TZID=America/New_York:20231008T100000
DTEND;TZID=America/New_York:20231008T130000
DTSTAMP:20260425T164607
CREATED:20230926T174349Z
LAST-MODIFIED:20230926T174349Z
UID:10000131-1696759200-1696770000@oneloveanimalrescue.com
SUMMARY:Pawsitively FREE Pet Vaccine & Microchip Clinic
DESCRIPTION:Join us at Daffin Park (Washington & Waters Entrance) for free core pet vaccinations and microchips for owned pets (no feral cats and no rescue groups) and pet parents in need. \nNo appointment necessary but supplies are limited to the first 75 pets and you must be in line by 1:00PM. 2 pets per household limit.\nVouchers for low-cost spay and neuter services\, and pet food will also be available. \nAll dogs must be on a leash and all cats must be in separate carriers. Leashes and limited carriers will be available on-site for those in need. Aggressive pets cannot be managed in the mobile setting. \nVaccine List: \n\nRabies for cats and dogs\nDHPP for dogs\nFVCRP for cats\n\nThis event is made possible by a grant from the ASPCA & Subaru Loves Pets Grant Program.
URL:https://oneloveanimalrescue.com/event/pawsitively-free-pet-vaccine-microchip-clinic/
LOCATION:Daffin Park\, 1301 E Victory Dr\, Savannah\, GA\, 31404\, United States
CATEGORIES:Community Event
ATTACH;FMTTYPE=image/jpeg:https://oneloveanimalrescue.com/wp-content/uploads/2023/09/375827653_699407642225458_7949419857013813897_n.jpeg
ORGANIZER;CN="One Love Animal Resuce":MAILTO:info@oneloveanimalrescue.com
END:VEVENT
BEGIN:VEVENT
DTSTART;TZID=America/New_York:20221016T100000
DTEND;TZID=America/New_York:20221016T130000
DTSTAMP:20260425T164607
CREATED:20221014T140902Z
LAST-MODIFIED:20221014T141303Z
UID:10000002-1665914400-1665925200@oneloveanimalrescue.com
SUMMARY:Pawsitively Free Pet Vaccine & Microchip Event
DESCRIPTION:Free core pet vaccinations and microchips for owned pets (no feral cats and no rescue groups) and pet parents in need. No appointment necessary but supplies are limited to the first 75 pets and you must be in line by 1:00PM. 2 pets per household limit. \nVouchers for low-cost spay and neuter services\, and pet food will also be available. \nAll dogs must be on a leash and all cats must be in separate carriers. Leashes and limited carriers will be available on-site for those in need. Aggressive pets cannot be managed in the mobile setting. \nVaccine List: \n\nRabies for cats and dogs\nDHPP for dogs\nFVCRP for cats\n\nThis event is made possible by a grant from the ASPCA & Subaru Loves Pets Grant Program.
URL:https://oneloveanimalrescue.com/event/18448/
LOCATION:Daffin Park\, 1301 E Victory Dr\, Savannah\, GA\, 31404\, United States
END:VEVENT
END:VCALENDAR