BEGIN:VCALENDAR
VERSION:2.0
PRODID:-//One Love Animal Rescue - ECPv6.15.20//NONSGML v1.0//EN
CALSCALE:GREGORIAN
METHOD:PUBLISH
X-WR-CALNAME:One Love Animal Rescue
X-ORIGINAL-URL:https://oneloveanimalrescue.com
X-WR-CALDESC:Events for One Love Animal Rescue
REFRESH-INTERVAL;VALUE=DURATION:PT1H
X-Robots-Tag:noindex
X-PUBLISHED-TTL:PT1H
BEGIN:VTIMEZONE
TZID:America/New_York
BEGIN:DAYLIGHT
TZOFFSETFROM:-0500
TZOFFSETTO:-0400
TZNAME:EDT
DTSTART:20250309T070000
END:DAYLIGHT
BEGIN:STANDARD
TZOFFSETFROM:-0400
TZOFFSETTO:-0500
TZNAME:EST
DTSTART:20251102T060000
END:STANDARD
BEGIN:DAYLIGHT
TZOFFSETFROM:-0500
TZOFFSETTO:-0400
TZNAME:EDT
DTSTART:20260308T070000
END:DAYLIGHT
BEGIN:STANDARD
TZOFFSETFROM:-0400
TZOFFSETTO:-0500
TZNAME:EST
DTSTART:20261101T060000
END:STANDARD
BEGIN:DAYLIGHT
TZOFFSETFROM:-0500
TZOFFSETTO:-0400
TZNAME:EDT
DTSTART:20270314T070000
END:DAYLIGHT
BEGIN:STANDARD
TZOFFSETFROM:-0400
TZOFFSETTO:-0500
TZNAME:EST
DTSTART:20271107T060000
END:STANDARD
END:VTIMEZONE
BEGIN:VEVENT
DTSTART;TZID=America/New_York:20260307T100000
DTEND;TZID=America/New_York:20260307T110000
DTSTAMP:20260425T191241
CREATED:20260303T014312Z
LAST-MODIFIED:20260303T023643Z
UID:10000417-1772877600-1772881200@oneloveanimalrescue.com
SUMMARY:Fundraiser: Dog Yoga Hosted by Blissful Buddha Pet Services
DESCRIPTION:Yoga\, dogs\, fresh air & good vibes! 🌿🐾 Our Dog Yoga class is perfect for everyone — beginner or pro. Bring your mat\, leash your pup\, and enjoy a fun outdoor session. All funds go to One Love Animal Rescue — stretch\, smile\, and support a good cause! \n📍 Forsyth Park (west of the fountain)\n💲 $20 minimum donation per person + dog pair (sliding scale welcome)\n👥 Limited space — sign up today! To register email BlissfulBuddhaPetServices@yahoo.com or call 912-665-4133
URL:https://oneloveanimalrescue.com/event/fundraiser-dog-yoga-hosted-by-blissful-buddha-pet-services/
LOCATION:Blissful Buddha Pet Services
ATTACH;FMTTYPE=image/webp:https://oneloveanimalrescue.com/wp-content/uploads/2026/03/dogyoga.webp
END:VEVENT
BEGIN:VEVENT
DTSTART;TZID=America/New_York:20260307T110000
DTEND;TZID=America/New_York:20260307T130000
DTSTAMP:20260425T191241
CREATED:20260131T184641Z
LAST-MODIFIED:20260405T234901Z
UID:10000418-1772881200-1772888400@oneloveanimalrescue.com
SUMMARY:Pooler PetSmart
DESCRIPTION:One Love will be at PetSmart! Meet adorable pets looking for their forever homes and learn how you can make a difference. \nAs we are a foster home based rescue\, not all of our adoptable animals will be at every single event. If there is a specific pet you are interested in meeting\, we recommend submitting a pre-adoption application ahead of time. That will allow us time to approve the application prior to the event and arrange for the specific pet to attend the event.
URL:https://oneloveanimalrescue.com/event/pooler-petsmart-3/2026-03-07/
LOCATION:PetSmart – Pooler\, 262 Pooler Pkwy\, Pooler\, GA\, United States
CATEGORIES:Adoptions,Community Event
ATTACH;FMTTYPE=image/jpeg:https://oneloveanimalrescue.com/wp-content/uploads/2025/09/541113058_1118436256907394_1521451410421854431_n.jpg
ORGANIZER;CN="One Love Animal Resuce":MAILTO:info@oneloveanimalrescue.com
END:VEVENT
BEGIN:VEVENT
DTSTART;TZID=America/New_York:20260314T090000
DTEND;TZID=America/New_York:20260314T120000
DTSTAMP:20260425T191241
CREATED:20260303T015356Z
LAST-MODIFIED:20260406T001740Z
UID:10000421-1773478800-1773489600@oneloveanimalrescue.com
SUMMARY:Islands Farmers Market
DESCRIPTION:Come meet our adoptable foster pets in a lovely outdoor market!
URL:https://oneloveanimalrescue.com/event/islands-farmers-market/2026-03-14/
LOCATION:Island Farmers’ Market\, 401 Quarterman Drive\, Savannah\, GA\, United States
ATTACH;FMTTYPE=image/webp:https://oneloveanimalrescue.com/wp-content/uploads/2026/01/marketdog.webp
END:VEVENT
BEGIN:VEVENT
DTSTART;TZID=America/New_York:20260314T110000
DTEND;TZID=America/New_York:20260314T130000
DTSTAMP:20260425T191241
CREATED:20260131T184641Z
LAST-MODIFIED:20260405T234901Z
UID:10000422-1773486000-1773493200@oneloveanimalrescue.com
SUMMARY:Pooler PetSmart
DESCRIPTION:One Love will be at PetSmart! Meet adorable pets looking for their forever homes and learn how you can make a difference. \nAs we are a foster home based rescue\, not all of our adoptable animals will be at every single event. If there is a specific pet you are interested in meeting\, we recommend submitting a pre-adoption application ahead of time. That will allow us time to approve the application prior to the event and arrange for the specific pet to attend the event.
URL:https://oneloveanimalrescue.com/event/pooler-petsmart-3/2026-03-14/
LOCATION:PetSmart – Pooler\, 262 Pooler Pkwy\, Pooler\, GA\, United States
CATEGORIES:Adoptions,Community Event
ATTACH;FMTTYPE=image/jpeg:https://oneloveanimalrescue.com/wp-content/uploads/2025/09/541113058_1118436256907394_1521451410421854431_n.jpg
ORGANIZER;CN="One Love Animal Resuce":MAILTO:info@oneloveanimalrescue.com
END:VEVENT
BEGIN:VEVENT
DTSTART;TZID=America/New_York:20260321T110000
DTEND;TZID=America/New_York:20260321T130000
DTSTAMP:20260425T191241
CREATED:20260131T184641Z
LAST-MODIFIED:20260405T234901Z
UID:10000419-1774090800-1774098000@oneloveanimalrescue.com
SUMMARY:Pooler PetSmart
DESCRIPTION:One Love will be at PetSmart! Meet adorable pets looking for their forever homes and learn how you can make a difference. \nAs we are a foster home based rescue\, not all of our adoptable animals will be at every single event. If there is a specific pet you are interested in meeting\, we recommend submitting a pre-adoption application ahead of time. That will allow us time to approve the application prior to the event and arrange for the specific pet to attend the event.
URL:https://oneloveanimalrescue.com/event/pooler-petsmart-3/2026-03-21/
LOCATION:PetSmart – Pooler\, 262 Pooler Pkwy\, Pooler\, GA\, United States
CATEGORIES:Adoptions,Community Event
ATTACH;FMTTYPE=image/jpeg:https://oneloveanimalrescue.com/wp-content/uploads/2025/09/541113058_1118436256907394_1521451410421854431_n.jpg
ORGANIZER;CN="One Love Animal Resuce":MAILTO:info@oneloveanimalrescue.com
END:VEVENT
BEGIN:VEVENT
DTSTART;TZID=America/New_York:20260321T120000
DTEND;TZID=America/New_York:20260322T160000
DTSTAMP:20260425T191241
CREATED:20260303T021442Z
LAST-MODIFIED:20260405T233834Z
UID:10000425-1774094400-1774195200@oneloveanimalrescue.com
SUMMARY:208 Wine Event
DESCRIPTION:Spring Fling Yappy Hour \n\nBring your own pups and One Love foster dogs will be there as well (inside and out).\n\nOne Love will have a table as well as other vendors!\nMerch table for us and there will be some small vendors\n\nThere will be light refreshments and raffles!\n\n$25 ticket for wine tasting (One Love is donated this minus processing fees).
URL:https://oneloveanimalrescue.com/event/208-wine-event/
LOCATION:208 Wine\, 208 E Bay St\, Savannah\, GA\, 31401\, United States
ATTACH;FMTTYPE=image/jpeg:https://oneloveanimalrescue.com/wp-content/uploads/2026/03/winedog.jpg
END:VEVENT
BEGIN:VEVENT
DTSTART;TZID=America/New_York:20260321T193000
DTEND;TZID=America/New_York:20260321T213000
DTSTAMP:20260425T191241
CREATED:20260303T022404Z
LAST-MODIFIED:20260303T022647Z
UID:10000426-1774121400-1774128600@oneloveanimalrescue.com
SUMMARY:Front Porch Improv Fundraiser & Adoption Event!
DESCRIPTION:Welcome to Puppy Files\, a comedic canine caper. Join our ace pet detective as he hits the streets looking for clues and interrogating suspects in search of finding a missing dog. T \n*This show will have live animals in it!* \n\nSHOW DETAILS\n\nShow length: 90 minutes with an intermission\nRecommended for ages 16+\n\n\n\n\nGENERAL ADMISSION\nSeating is on a first-come\, first-served basis\, so snagging seats together isn’t guaranteed. Groups should keep this in mind while planning and arrive early. \nREFUNDS\nWe do not offer refunds\, similar to concert policies. If your plans change or you can’t attend\, tickets are non-refundable. However\, you’re welcome to give them to a friend or sell them. We do offer ticket exchanges with at least 48 hours’ notice. To request an exchange\, email comedy@frontporchimprov.com—please note that exchanges cannot be processed over the phone.
URL:https://oneloveanimalrescue.com/event/front-porch-improv-fundraiser-adoption-event/
LOCATION:Front Porch Improv\, 210 W Victory Dr\, Savannah\, 31405\, United States
ATTACH;FMTTYPE=image/jpeg:https://oneloveanimalrescue.com/wp-content/uploads/2026/03/ImprovImage.jpg
END:VEVENT
BEGIN:VEVENT
DTSTART;TZID=America/New_York:20260328T110000
DTEND;TZID=America/New_York:20260328T130000
DTSTAMP:20260425T191241
CREATED:20260131T184641Z
LAST-MODIFIED:20260405T234901Z
UID:10000430-1774695600-1774702800@oneloveanimalrescue.com
SUMMARY:Pooler PetSmart
DESCRIPTION:One Love will be at PetSmart! Meet adorable pets looking for their forever homes and learn how you can make a difference. \nAs we are a foster home based rescue\, not all of our adoptable animals will be at every single event. If there is a specific pet you are interested in meeting\, we recommend submitting a pre-adoption application ahead of time. That will allow us time to approve the application prior to the event and arrange for the specific pet to attend the event.
URL:https://oneloveanimalrescue.com/event/pooler-petsmart-3/2026-03-28/
LOCATION:PetSmart – Pooler\, 262 Pooler Pkwy\, Pooler\, GA\, United States
CATEGORIES:Adoptions,Community Event
ATTACH;FMTTYPE=image/jpeg:https://oneloveanimalrescue.com/wp-content/uploads/2025/09/541113058_1118436256907394_1521451410421854431_n.jpg
ORGANIZER;CN="One Love Animal Resuce":MAILTO:info@oneloveanimalrescue.com
END:VEVENT
END:VCALENDAR