BEGIN:VCALENDAR
VERSION:2.0
PRODID:-//One Love Animal Rescue - ECPv6.15.20//NONSGML v1.0//EN
CALSCALE:GREGORIAN
METHOD:PUBLISH
X-WR-CALNAME:One Love Animal Rescue
X-ORIGINAL-URL:https://oneloveanimalrescue.com
X-WR-CALDESC:Events for One Love Animal Rescue
REFRESH-INTERVAL;VALUE=DURATION:PT1H
X-Robots-Tag:noindex
X-PUBLISHED-TTL:PT1H
BEGIN:VTIMEZONE
TZID:America/New_York
BEGIN:DAYLIGHT
TZOFFSETFROM:-0500
TZOFFSETTO:-0400
TZNAME:EDT
DTSTART:20250309T070000
END:DAYLIGHT
BEGIN:STANDARD
TZOFFSETFROM:-0400
TZOFFSETTO:-0500
TZNAME:EST
DTSTART:20251102T060000
END:STANDARD
BEGIN:DAYLIGHT
TZOFFSETFROM:-0500
TZOFFSETTO:-0400
TZNAME:EDT
DTSTART:20260308T070000
END:DAYLIGHT
BEGIN:STANDARD
TZOFFSETFROM:-0400
TZOFFSETTO:-0500
TZNAME:EST
DTSTART:20261101T060000
END:STANDARD
BEGIN:DAYLIGHT
TZOFFSETFROM:-0500
TZOFFSETTO:-0400
TZNAME:EDT
DTSTART:20270314T070000
END:DAYLIGHT
BEGIN:STANDARD
TZOFFSETFROM:-0400
TZOFFSETTO:-0500
TZNAME:EST
DTSTART:20271107T060000
END:STANDARD
END:VTIMEZONE
BEGIN:VEVENT
DTSTART;TZID=America/New_York:20260425T090000
DTEND;TZID=America/New_York:20260425T120000
DTSTAMP:20260425T203921
CREATED:20260303T015356Z
LAST-MODIFIED:20260406T001740Z
UID:10000443-1777107600-1777118400@oneloveanimalrescue.com
SUMMARY:Islands Farmers Market
DESCRIPTION:Come meet our adoptable foster pets in a lovely outdoor market!
URL:https://oneloveanimalrescue.com/event/islands-farmers-market/2026-04-25/
LOCATION:Island Farmers’ Market\, 401 Quarterman Drive\, Savannah\, GA\, United States
ATTACH;FMTTYPE=image/webp:https://oneloveanimalrescue.com/wp-content/uploads/2026/01/marketdog.webp
END:VEVENT
BEGIN:VEVENT
DTSTART;TZID=America/New_York:20260425T110000
DTEND;TZID=America/New_York:20260425T130000
DTSTAMP:20260425T203921
CREATED:20260131T184641Z
LAST-MODIFIED:20260405T234901Z
UID:10000434-1777114800-1777122000@oneloveanimalrescue.com
SUMMARY:Pooler PetSmart
DESCRIPTION:One Love will be at PetSmart! Meet adorable pets looking for their forever homes and learn how you can make a difference. \nAs we are a foster home based rescue\, not all of our adoptable animals will be at every single event. If there is a specific pet you are interested in meeting\, we recommend submitting a pre-adoption application ahead of time. That will allow us time to approve the application prior to the event and arrange for the specific pet to attend the event.
URL:https://oneloveanimalrescue.com/event/pooler-petsmart-3/2026-04-25/
LOCATION:PetSmart – Pooler\, 262 Pooler Pkwy\, Pooler\, GA\, United States
CATEGORIES:Adoptions,Community Event
ATTACH;FMTTYPE=image/jpeg:https://oneloveanimalrescue.com/wp-content/uploads/2025/09/541113058_1118436256907394_1521451410421854431_n.jpg
ORGANIZER;CN="One Love Animal Resuce":MAILTO:info@oneloveanimalrescue.com
END:VEVENT
BEGIN:VEVENT
DTSTART;TZID=America/New_York:20260425T120000
DTEND;TZID=America/New_York:20260425T140000
DTSTAMP:20260425T203921
CREATED:20260131T184347Z
LAST-MODIFIED:20260406T001837Z
UID:10000412-1777118400-1777125600@oneloveanimalrescue.com
SUMMARY:Pet Supermarket Adoption Event
DESCRIPTION:Join us at Pet Supermarket and meet some of our happy\, sweet and deserving cats and dogs available for adoption!
URL:https://oneloveanimalrescue.com/event/pet-supermarket-adoption-event-2/
LOCATION:Pet Supermarket\, 7805 Abercorn St\, Savannah\, GA\, United States
CATEGORIES:Adoptions,Community Event
ATTACH;FMTTYPE=image/jpeg:https://oneloveanimalrescue.com/wp-content/uploads/2022/08/OLAR-Events-PetSupermarket.jpg
ORGANIZER;CN="One Love Animal Resuce":MAILTO:info@oneloveanimalrescue.com
END:VEVENT
BEGIN:VEVENT
DTSTART;TZID=America/New_York:20260425T160000
DTEND;TZID=America/New_York:20260425T210000
DTSTAMP:20260425T203921
CREATED:20260406T002149Z
LAST-MODIFIED:20260406T002240Z
UID:10000444-1777132800-1777150800@oneloveanimalrescue.com
SUMMARY:Relay for Life
DESCRIPTION:Come out to support a good cause and to meet some of One Love’s adoptable pets!
URL:https://oneloveanimalrescue.com/event/relay-for-life/
LOCATION:Relay for Life\, 101 John J Scott Dr\, Savannah\, GA\, United States
ATTACH;FMTTYPE=image/jpeg:https://oneloveanimalrescue.com/wp-content/uploads/2026/04/relay.jpeg
END:VEVENT
END:VCALENDAR