BEGIN:VCALENDAR
VERSION:2.0
PRODID:-//One Love Animal Rescue - ECPv6.15.20//NONSGML v1.0//EN
CALSCALE:GREGORIAN
METHOD:PUBLISH
X-WR-CALNAME:One Love Animal Rescue
X-ORIGINAL-URL:https://oneloveanimalrescue.com
X-WR-CALDESC:Events for One Love Animal Rescue
REFRESH-INTERVAL;VALUE=DURATION:PT1H
X-Robots-Tag:noindex
X-PUBLISHED-TTL:PT1H
BEGIN:VTIMEZONE
TZID:America/New_York
BEGIN:DAYLIGHT
TZOFFSETFROM:-0500
TZOFFSETTO:-0400
TZNAME:EDT
DTSTART:20250309T070000
END:DAYLIGHT
BEGIN:STANDARD
TZOFFSETFROM:-0400
TZOFFSETTO:-0500
TZNAME:EST
DTSTART:20251102T060000
END:STANDARD
BEGIN:DAYLIGHT
TZOFFSETFROM:-0500
TZOFFSETTO:-0400
TZNAME:EDT
DTSTART:20260308T070000
END:DAYLIGHT
BEGIN:STANDARD
TZOFFSETFROM:-0400
TZOFFSETTO:-0500
TZNAME:EST
DTSTART:20261101T060000
END:STANDARD
BEGIN:DAYLIGHT
TZOFFSETFROM:-0500
TZOFFSETTO:-0400
TZNAME:EDT
DTSTART:20270314T070000
END:DAYLIGHT
BEGIN:STANDARD
TZOFFSETFROM:-0400
TZOFFSETTO:-0500
TZNAME:EST
DTSTART:20271107T060000
END:STANDARD
END:VTIMEZONE
BEGIN:VEVENT
DTSTART;TZID=America/New_York:20260418T110000
DTEND;TZID=America/New_York:20260418T130000
DTSTAMP:20260425T235110
CREATED:20260131T184641Z
LAST-MODIFIED:20260405T234901Z
UID:10000433-1776510000-1776517200@oneloveanimalrescue.com
SUMMARY:Pooler PetSmart
DESCRIPTION:One Love will be at PetSmart! Meet adorable pets looking for their forever homes and learn how you can make a difference. \nAs we are a foster home based rescue\, not all of our adoptable animals will be at every single event. If there is a specific pet you are interested in meeting\, we recommend submitting a pre-adoption application ahead of time. That will allow us time to approve the application prior to the event and arrange for the specific pet to attend the event.
URL:https://oneloveanimalrescue.com/event/pooler-petsmart-3/2026-04-18/
LOCATION:PetSmart – Pooler\, 262 Pooler Pkwy\, Pooler\, GA\, United States
CATEGORIES:Adoptions,Community Event
ATTACH;FMTTYPE=image/jpeg:https://oneloveanimalrescue.com/wp-content/uploads/2025/09/541113058_1118436256907394_1521451410421854431_n.jpg
ORGANIZER;CN="One Love Animal Resuce":MAILTO:info@oneloveanimalrescue.com
END:VEVENT
BEGIN:VEVENT
DTSTART;TZID=America/New_York:20260418T110000
DTEND;TZID=America/New_York:20260418T150000
DTSTAMP:20260425T235110
CREATED:20260131T183845Z
LAST-MODIFIED:20260406T000446Z
UID:10000411-1776510000-1776524400@oneloveanimalrescue.com
SUMMARY:Wild Seed Market
DESCRIPTION:One Love will have adoptable pets at the Wild Seed Market! \nThe Wild Seed Plant Sale & Makers Market is a recurring\, community-focused event held at Savannah Hydroponics & Organics in Garden City (4107 E 8th Street). It features local plants\, seedlings\, artisans\, and food\, offering a\, frequently Saturday-based\, market experience throughout the 2026 season.  \nOfferings: The market features common and rare houseplants\, locally grown plants\, plant-based medicinals\, mushrooms\, and local makers and artisans. \nHost: The market is hosted by Savannah Hydroponics & Organics\, where attendees can also purchase gardening supplies. \nThe event aims to bring together plant enthusiasts\, local food vendors\, and community makers\, often featuring music and food trucks.
URL:https://oneloveanimalrescue.com/event/wild-seed-market/
LOCATION:Wild Seed Market\, 4107 8th St\, Garden City\, 31408\, United States
CATEGORIES:Adoptions,Community Event
ATTACH;FMTTYPE=image/png:https://oneloveanimalrescue.com/wp-content/uploads/2026/01/WildSeed_2.png
END:VEVENT
END:VCALENDAR